BEGIN:VCALENDAR
VERSION:2.0
PRODID:spatie/icalendar-generator
DESCRIPTION:Hendelser fra Raet Kystlag
X-WR-CALDESC:Hendelser fra Raet Kystlag
REFRESH-INTERVAL;VALUE=DURATION:PT1440M
X-PUBLISHED-TTL:PT1440M
BEGIN:VTIMEZONE
TZID:Etc/GMT-1
BEGIN:STANDARD
DTSTART:20250530T183000Z
TZOFFSETFROM:+0100
TZOFFSETTO:+0100
END:STANDARD
END:VTIMEZONE
BEGIN:VTIMEZONE
TZID:UTC
BEGIN:STANDARD
DTSTART:20250725T084035Z
TZOFFSETFROM:+0000
TZOFFSETTO:+0000
END:STANDARD
END:VTIMEZONE
BEGIN:VEVENT
UID:875-84
DTSTAMP:20260421T084035Z
SUMMARY:Årsmøte 2026
LOCATION:
ORGANIZER;CN=Lise Køpke:MAILTO:lisekopke@gmail.com
DTSTART;TZID=Etc/GMT-1:20260224T183000
DTEND;TZID=Etc/GMT-1:20260224T193000
X-ALT-DESC;FMTTYPE=TEXT/HTML:Til alle medlemmer av Raet Kystlag Velkommen t
 il årsmøte tirsdag 24. februar på Kystruta kystveien 118 Havstad Kl. 18
 .30 Sakspapirer finner du på denne linken. Det er ikke kommet inn nye sak
 er til behandling på årsmøtet. Agenda for årsmøtet: 1. Valg av ordsty
 rer/dirigent og referent. 2. Valg av 2 til å underskrive protokollen/refe
 rat 3. Godkjenning&amp;hellip\;
CATEGORIES:Kystruta
URL;VALUE=URI:https://www.raetkystlag.no/hvaskjer/?mc_id=875&#038;vcal=875
METHOD:PUBLISH
END:VEVENT
END:VCALENDAR