BEGIN:VCALENDAR
VERSION:2.0
PRODID:spatie/icalendar-generator
DESCRIPTION:Hendelser fra Raet Kystlag
X-WR-CALDESC:Hendelser fra Raet Kystlag
REFRESH-INTERVAL;VALUE=DURATION:PT1440M
X-PUBLISHED-TTL:PT1440M
BEGIN:VTIMEZONE
TZID:Etc/GMT-1
BEGIN:STANDARD
DTSTART:20210514T180000Z
TZOFFSETFROM:+0100
TZOFFSETTO:+0100
END:STANDARD
END:VTIMEZONE
BEGIN:VTIMEZONE
TZID:UTC
BEGIN:STANDARD
DTSTART:20250724T134227Z
TZOFFSETFROM:+0000
TZOFFSETTO:+0000
END:STANDARD
END:VTIMEZONE
BEGIN:VEVENT
UID:637-34
DTSTAMP:20260420T134227Z
SUMMARY:Kurskveld Taumatte/fender
LOCATION:
ORGANIZER;CN=Admin:MAILTO:post@raetkystlag.no
DTSTART;TZID=Etc/GMT-1:20220208T180000
DTEND;TZID=Etc/GMT-1:20220208T200000
X-ALT-DESC;FMTTYPE=TEXT/HTML:
CATEGORIES:Kystruta
URL;VALUE=URI:https://www.raetkystlag.no/hvaskjer/?mc_id=637&#038;vcal=637
METHOD:PUBLISH
END:VEVENT
END:VCALENDAR